BEGIN:VCALENDAR
VERSION:2.0
PRODID:SchoolNow
CALSCALE:GREGORIAN
BEGIN:VEVENT
UID:a19b0854-d238-11f0-8269-0a58a9feac02
DTSTAMP:20260421T030508Z
SUMMARY:BAM Theater
URL;VALUE=URI:https://www.dg58.org/ba/calendar/8818896/bam-theater
DTSTART:20260210T210000Z
DTEND:20260210T220000Z
END:VEVENT
END:VCALENDAR
