BEGIN:VCALENDAR
VERSION:2.0
PRODID:SchoolNow
CALSCALE:GREGORIAN
BEGIN:VEVENT
UID:a19b0732-d238-11f0-b185-0a58a9feac02
DTSTAMP:20260421T030508Z
SUMMARY:Sticky Fingers Cooking
URL;VALUE=URI:https://www.dg58.org/ba/calendar/8818895/sticky-fingers-cooki
 ng
DTSTART:20260212T210000Z
DTEND:20260212T221000Z
END:VEVENT
END:VCALENDAR
