BEGIN:VCALENDAR
VERSION:2.0
PRODID:SchoolNow
CALSCALE:GREGORIAN
BEGIN:VEVENT
UID:a19b0548-d238-11f0-807b-0a58a9feac02
DTSTAMP:20260421T030508Z
SUMMARY:BAM Theater
URL;VALUE=URI:https://www.dg58.org/ba/calendar/8818894/bam-theater
DTSTART:20260217T210000Z
DTEND:20260217T220000Z
END:VEVENT
END:VCALENDAR
