BEGIN:VCALENDAR
VERSION:2.0
PRODID:SchoolNow
CALSCALE:GREGORIAN
BEGIN:VEVENT
UID:dff61f02-8ffe-11f0-94ea-0a58a9feac02
DTSTAMP:20260421T030508Z
SUMMARY:Culver's Night
URL;VALUE=URI:https://www.dg58.org/ba/calendar/8613961/culvers-night
DTSTART;VALUE=DATE:20260311
DTEND;VALUE=DATE:20260312
END:VEVENT
END:VCALENDAR
