BEGIN:VCALENDAR
VERSION:2.0
PRODID:SchoolNow
CALSCALE:GREGORIAN
BEGIN:VEVENT
UID:70aa6846-850a-11f0-a547-0a58a9feac02
DTSTAMP:20260419T083007Z
SUMMARY:FUN LUNCH
URL;VALUE=URI:https://www.dg58.org/ba/calendar/8558807/fun-lunch
DTSTART;VALUE=DATE:20251219
DTEND;VALUE=DATE:20251220
END:VEVENT
END:VCALENDAR
