BEGIN:VCALENDAR
VERSION:2.0
PRODID:SchoolNow
CALSCALE:GREGORIAN
BEGIN:VEVENT
UID:935f2dec-82a6-11f0-8bd6-0237c0c0c24d
DTSTAMP:20260419T083008Z
SUMMARY:Cancelled -3rd Grade Girl Scouts- Art Room
URL;VALUE=URI:https://www.dg58.org/ba/calendar/8546012/cancelled-3rd-grade-
 girl-scouts-art-room
DTSTART:20251219T210000Z
DTEND:20251219T223000Z
END:VEVENT
END:VCALENDAR
