BEGIN:VCALENDAR
VERSION:2.0
PRODID:SchoolNow
CALSCALE:GREGORIAN
BEGIN:VEVENT
UID:3a0e1fbe-3b25-11f0-aa25-020d8b36e58b
DTSTAMP:20260419T083007Z
SUMMARY:Last Day-early dismissal
URL;VALUE=URI:https://www.dg58.org/ba/calendar/8208266/last-day-early-dismi
 ssal
DTSTART;VALUE=DATE:20260605
DTEND;VALUE=DATE:20260606
END:VEVENT
END:VCALENDAR
