BEGIN:VCALENDAR
VERSION:2.0
PRODID:SchoolNow
CALSCALE:GREGORIAN
BEGIN:VEVENT
UID:3a0e1b4a-3b25-11f0-93b8-020d8b36e58b
DTSTAMP:20260421T030508Z
SUMMARY:No School-Presidents' Day
URL;VALUE=URI:https://www.dg58.org/ba/calendar/8208261/no-school-presidents
 -day
DTSTART;VALUE=DATE:20260216
DTEND;VALUE=DATE:20260217
END:VEVENT
END:VCALENDAR
