BEGIN:VCALENDAR
VERSION:2.0
PRODID:SchoolNow
CALSCALE:GREGORIAN
BEGIN:VEVENT
UID:3a0e1898-3b25-11f0-b8bc-020d8b36e58b
DTSTAMP:20260419T083007Z
SUMMARY:No School-Winter Break Begins
URL;VALUE=URI:https://www.dg58.org/ba/calendar/8208258/no-school-winter-bre
 ak-begins
DTSTART;VALUE=DATE:20251222
DTEND;VALUE=DATE:20251223
END:VEVENT
END:VCALENDAR
